BEGIN:VCALENDAR
VERSION:2.0
PRODID:-//Women&#039;s Empowerment International - ECPv6.15.20//NONSGML v1.0//EN
CALSCALE:GREGORIAN
METHOD:PUBLISH
X-ORIGINAL-URL:https://womenempowerment.org
X-WR-CALDESC:Events for Women&#039;s Empowerment International
REFRESH-INTERVAL;VALUE=DURATION:PT1H
X-Robots-Tag:noindex
X-PUBLISHED-TTL:PT1H
BEGIN:VTIMEZONE
TZID:America/Los_Angeles
BEGIN:DAYLIGHT
TZOFFSETFROM:-0800
TZOFFSETTO:-0700
TZNAME:PDT
DTSTART:20220313T100000
END:DAYLIGHT
BEGIN:STANDARD
TZOFFSETFROM:-0700
TZOFFSETTO:-0800
TZNAME:PST
DTSTART:20221106T090000
END:STANDARD
BEGIN:DAYLIGHT
TZOFFSETFROM:-0800
TZOFFSETTO:-0700
TZNAME:PDT
DTSTART:20230312T100000
END:DAYLIGHT
BEGIN:STANDARD
TZOFFSETFROM:-0700
TZOFFSETTO:-0800
TZNAME:PST
DTSTART:20231105T090000
END:STANDARD
BEGIN:DAYLIGHT
TZOFFSETFROM:-0800
TZOFFSETTO:-0700
TZNAME:PDT
DTSTART:20240310T100000
END:DAYLIGHT
BEGIN:STANDARD
TZOFFSETFROM:-0700
TZOFFSETTO:-0800
TZNAME:PST
DTSTART:20241103T090000
END:STANDARD
BEGIN:DAYLIGHT
TZOFFSETFROM:-0800
TZOFFSETTO:-0700
TZNAME:PDT
DTSTART:20250309T100000
END:DAYLIGHT
BEGIN:STANDARD
TZOFFSETFROM:-0700
TZOFFSETTO:-0800
TZNAME:PST
DTSTART:20251102T090000
END:STANDARD
BEGIN:DAYLIGHT
TZOFFSETFROM:-0800
TZOFFSETTO:-0700
TZNAME:PDT
DTSTART:20260308T100000
END:DAYLIGHT
BEGIN:STANDARD
TZOFFSETFROM:-0700
TZOFFSETTO:-0800
TZNAME:PST
DTSTART:20261101T090000
END:STANDARD
END:VTIMEZONE
BEGIN:VTIMEZONE
TZID:UTC
BEGIN:STANDARD
TZOFFSETFROM:+0000
TZOFFSETTO:+0000
TZNAME:UTC
DTSTART:20210101T000000
END:STANDARD
END:VTIMEZONE
BEGIN:VEVENT
DTSTART;TZID=America/Los_Angeles:20250928T130000
DTEND;TZID=America/Los_Angeles:20250928T163000
DTSTAMP:20260421T112246
CREATED:20250611T192159Z
LAST-MODIFIED:20250821T084155Z
UID:109863-1759064400-1759077000@womenempowerment.org
SUMMARY:Empowered WE Rise: Fall Fundraiser 2025
DESCRIPTION:Empowered WE Rise | Fall Fundraiser 2025\nSunday\, September 28\, 2025\n1:00-4:30pm \n* Inspiring Stories * Silent & Live Auction * Market Fair *\n* 2025 Woman of Empowerment Award * and more!\nMore details and tickets.
URL:https://womenempowerment.org/event/empowered-we-rise-fall-fundraiser-2025/
LOCATION:Joya Kitchen\, 10275 Science Center Drive\, San Diego\, CA\, 92121\, United States
CATEGORIES:Fall Fundraiser,Featured Event
ATTACH;FMTTYPE=image/png:https://womenempowerment.org/wp-content/uploads/2025/06/FF-2025-Square.png
END:VEVENT
BEGIN:VEVENT
DTSTART;TZID=America/Los_Angeles:20240922T130000
DTEND;TZID=America/Los_Angeles:20240922T163000
DTSTAMP:20260421T112246
CREATED:20240825T054010Z
LAST-MODIFIED:20250504T042737Z
UID:108368-1727010000-1727022600@womenempowerment.org
SUMMARY:Empowered WE Rise: 20th Anniversary Celebration
DESCRIPTION:Empowered WE Rise 2024 | 20th Anniversary Celebrating Two Decades of Economic Empowerment \nSunday\, September 22\, 20241:00-4:30pm
URL:https://womenempowerment.org/event/ewr-24/
LOCATION:Farmer & The Seahorse (at The Alexandria at Torrey Pines)\, 10996 Torreyana Rd.\, Ste 240\, San Diego\, CA\, 92121
CATEGORIES:Fall Fundraiser
ATTACH;FMTTYPE=image/png:https://womenempowerment.org/wp-content/uploads/2024/05/20th-anniversary-logo-final-2.png
END:VEVENT
BEGIN:VEVENT
DTSTART;TZID=America/Los_Angeles:20231015T130000
DTEND;TZID=America/Los_Angeles:20231015T163000
DTSTAMP:20260421T112246
CREATED:20230520T144116Z
LAST-MODIFIED:20250504T001003Z
UID:104679-1697374800-1697387400@womenempowerment.org
SUMMARY:Empowered WE Rise: Fall Fundraiser
DESCRIPTION:About The Event\nOur signature fall fundraiser\, this event brings together the community to support women entrepreneurs around the world\, working to overcome poverty.  \nBe inspired ● Enjoy food\, drinks\, music\, silent & live auctions ● Browse a Maker Fair with WE-supported\, local women entrepreneurs \nAll event proceeds will benefit our grants distributed to our partner programs in San Diego and internationally. \n			\n			\n				\n				\n			\n				\n				\n				\n				\n				\n				\n				\n			\n			\n				\n				\n				\n				\n				\n				EWR 2023 Keynote Speaker:Maya Madsen\nMaya Madsen\, the founder and CEO of Maya’s Cookies\, will take the stage as the keynote speaker during Empowered WE Rise\, 2023 Fall Fundraiser. Maya’s Cookies is America’s #1 Black-owned\, gourmet\, vegan cookie company and was started by Maya when she noticed a gap in the marketplace. \nDuring her keynote\, “Putting on your Big Girl Pants in an Adverse Society: A Journey of Empowerment\,” Maya discussed the barriers women face in business\, society\, as BIPOC individuals\, and the importance of access to opportunities. \n			\n			\n				\n				\n			\n				\n				\n			\n				\n				\n				\n				\n					\n				\n				\n				\n				\n				\n				\n				Artisan Fair\nThe Maker Fair is made up of WE-supported\, local women entrepreneurs\, who have participated in programs with our grant partners. Vendors sold a wide variety of items including clothing\, shoes\, accessories\, jewelry\, handmade items\, keychains\, baskets\, blankets\, aprons\, and art. This was a unique opportunity to directly support and get to know the artisans and local small business owners. \n			\n			\n				\n				\n			\n				\n				\n				\n				\n				\n				\n				\n			\n				\n				\n				\n			\n			\n				\n				\n				\n				\n				\n				\n			\n				\n				\n				\n			\n			\n				\n				\n			\n				\n				\n			\n				\n				\n				\n				\n					\n				\n				\n				\n				\n				\n				\n				Empowered WE Rise 2023 | Event Gallery\n			\n				\n				\n					\n					\n					\n				\n				\n				\n					\n					\n					\n				\n				\n				\n					\n					\n					\n				\n				\n				\n					\n					\n					\n				\n				\n				\n					\n					\n					\n				\n				\n				\n					\n					\n					\n				\n				\n				\n					\n					\n					\n				\n				\n				\n					\n					\n					\n				\n				\n				\n					\n					\n					\n				\n				\n				\n					\n					\n					\n				\n				\n				\n					\n					\n					\n				\n				\n				\n					\n					\n					\n				\n				\n				\n					\n					\n					\n				\n				\n				\n					\n					\n					\n				\n				\n				\n					\n					\n					\n				\n				\n				\n					\n					\n					\n				\n				\n				\n					\n					\n					\n				\n				\n				\n					\n					\n					\n				\n				\n				\n					\n					\n					\n				\n				\n				\n					\n					\n					\n				\n				\n				\n					\n					\n					\n				\n				\n				\n					\n					\n					\n				\n				\n				\n					\n					\n					\n				\n				\n				\n					\n					\n					\n				\n				\n				\n					\n					\n					\n				\n				\n				\n					\n					\n					\n				\n				\n				\n					\n					\n					\n				\n				\n				\n					\n					\n					\n				\n				\n				\n					\n					\n					\n				\n				\n				\n					\n					\n					\n				\n				\n				\n					\n					\n					\n				\n				\n				\n					\n					\n					\n				\n				\n				\n					\n					\n					\n				\n				\n				\n					\n					\n					\n				\n				\n				\n					\n					\n					\n				\n				\n				\n					\n					\n					\n				\n				\n				\n					\n					\n					\n				\n				\n				\n					\n					\n					\n				\n				\n				\n					\n					\n					\n				\n				\n				\n					\n					\n					\n				\n				\n				\n					\n					\n					\n				\n				\n				\n					\n					\n					\n				\n				\n				\n					\n					\n					\n				\n				\n				\n					\n					\n					\n				\n				\n				\n					\n					\n					\n				\n				\n				\n					\n					\n					\n				\n				\n				\n					\n					\n					\n				\n				\n				\n					\n					\n					\n				\n				\n				\n					\n					\n					\n				\n				\n				\n					\n					\n					\n				\n				\n				\n					\n					\n					\n				\n				\n				\n					\n					\n					\n				\n				\n				\n					\n					\n					\n				\n				\n				\n					\n					\n					\n				\n				\n				\n					\n					\n					\n				\n				\n				\n					\n					\n					\n				\n				\n				\n					\n					\n					\n				\n				\n				\n					\n					\n					\n				\n				\n				\n					\n					\n					\n				\n				\n				\n					\n					\n					\n				\n				\n				\n					\n					\n					\n				\n				\n				\n					\n					\n					\n				\n				\n				\n					\n					\n					\n				\n				\n				\n					\n					\n					\n				\n				\n				\n					\n					\n					\n				\n				\n				\n					\n					\n					\n				\n				\n				\n					\n					\n					\n				\n				\n				\n					\n					\n					\n				\n				\n				\n					\n					\n					\n				\n				\n			\n				\n				\n			\n				\n				\n			\n				\n				\n				\n				\n					\n				\n				\n				\n				\n				\n				\n				Thank You to Our Generous 2023 Sponsors:\n			\n			\n				\n				\n			\n				\n				\n				\n				\n				\n				\n				Champion for Women Sponsors\nCarol Clause & Carl CriderLinda Corey & Dr. Christopher Khoury \n			\n				\n				\n				Leadership Sponsors\nChris & Cathy CarrollDebbie McGraw-Block \n			\n				\n				\n				Empowering Sponsors\nJudith Fullerton \n			\n				\n				\n				Impact Sponsors\nRhea KuhlmanWinifred Cox & Gary SchultzChristy HendricksonRosemary StraleySusan Hennenfent \n\n			\n				\n				\n				Mission Sponsors\nTeresa Jacques & Bob O’ConnorPat Wilson & Greg RoseMargaret & Wayne AdamsCourtney BrownDeAnn & Dan Maurer \n			\n			\n				\n				\n			\n				\n				\n				\n				\n				\n				\n				Media Sponsors
URL:https://womenempowerment.org/event/ewr-2023/
LOCATION:Farmer & The Seahorse (at The Alexandria at Torrey Pines)\, 10996 Torreyana Rd.\, Ste 240\, San Diego\, CA\, 92121
CATEGORIES:Fall Fundraiser
ATTACH;FMTTYPE=image/png:https://womenempowerment.org/wp-content/uploads/2023/07/EWR-2023-Background-11-×-8.5-in-1.png
END:VEVENT
BEGIN:VEVENT
DTSTART;TZID=UTC:20220925T140000
DTEND;TZID=UTC:20220925T170000
DTSTAMP:20260421T112246
CREATED:20220622T224634Z
LAST-MODIFIED:20250504T002252Z
UID:103053-1664114400-1664125200@womenempowerment.org
SUMMARY:Empowered WE Rise 2022: Celebrating Women's Strength & Resilience
DESCRIPTION:The 2022 fundraiser celebrated and honored the resiliency of our partners and the women we serve\, as we have seen them continue to persist in the face of adversity and rise through each challenge\, working to overcome poverty for their families. \n			\n			\n				\n				\n			\n				\n				\n				\n				\n				\n				\n				\n			\n			\n				\n				\n				\n				\n				\n				\n			\n			\n				\n				\n				\n				\n				\n				\n			\n			\n				\n				\n			\n				\n				\n				\n				\n				\n				\n				\n			\n			\n				\n				\n			\n				\n				\n				\n				\n				\n				\n				THANK YOU TO OUR SPONSORS AND IN-KIND DONORS!\n			\n			\n				\n				\n			\n				\n				\n				\n				\n				\n				\n				Champion Sponsors \nCarol Clause & Carl CriderLinda Corey & Chris Khoury \n			\n			\n				\n				\n				\n				\n				\n				\n\nLeadership Sponsors \nChris & Cathy CarrollDebbie McGraw-Block \n\n\n			\n			\n				\n				\n				\n				\n				\n				\n\nUplifting SponsorsWinifred Cox & Gary Schultz \n\n\n			\n			\n				\n				\n			\n				\n				\n				\n				\n				\n				\n				\n\nEmpowering Sponsors \nRosette GarciaWalsh Family Charitable Fund \n\n\n			\n			\n				\n				\n				\n				\n				\n				Impact Sponsors \nBarrie FairleyBlankinship & Foster\, LLCChristy HendricksonCreative Planning FoundationJudy & Paul BernsteinPat WilsonRosemary StraleySusan Hennenfent \n			\n			\n				\n				\n				\n				\n				\n				Mission SponsorsBarbara SawreyLoretta SmithTeresa Jacques \n			\n			\n				\n				\n			\n				\n				\n				\n				\n				\n				\n				\n\nAdditional Supporters \nJean Fort | Linda Kurtz \n\n\n			\n			\n				\n				\n				\n			\n				\n				\n				\n			\n				\n				\n			\n				\n				\n				\n				\n				\n				\n				MEDIA SPONSORS \n			\n				\n				\n				\n			\n				\n				\n				\n			\n			\n				\n				\n				\n				\n				\n				WINE SPONSOR \n			\n				\n				\n				\n			\n			\n				\n				\n			\n				\n				\n				\n				\n				\n				\n				IN-KIND DONORS\n			\n			\n				\n				\n			\n				\n				\n				\n				\n				\n				\n				Aderonke TosinAl’Fresko ExperienceAlila Marea Beach ResortAltisma WineryBelly Up TavernFast Forward EventsHappy Place PicnicHsaio Law\, PCJyoti Mishra\, UCSDKatie’s Healing Kitchen \n			\n			\n				\n				\n				\n				\n				\n				Kevin KurtzKnockaround SunglassesM Prevost DesignManchester Grand Hyatt San DiegoMarcy Browe PhotographyNext Ridge Career CoachingPRP Wine InternationalRooftop Cinema Club Embarcadero \n			\n			\n				\n				\n				\n				\n				\n				Rooted in RawSan Diego SymphonySurfhouse Boutique HotelSynergySystems Fitness StudioThe StrongholdThe Super DentistsThrive CausemeticsTrader Joe’sVAGA Restaurant & Bar \n			\n			\n				\n				\n			\n				\n				\n				\n				\n				\n				\n				\n			\n			\n				\n				\n			\n				\n				\n				\n				\n				\n				\n				EVENT PHOTOS\n			\n			\n				\n				\n			\n				\n				\n				\n				\n				\n				\n				\n			\n				\n				\n				\n			\n				\n				\n				\n			\n				\n				\n				\n			\n			\n				\n				\n				\n				\n				\n				\n			\n				\n				\n				\n			\n				\n				\n				\n			\n				\n				\n				\n			\n			\n				\n				\n			\n				\n				\n				\n				\n				\n				\n				Attendees were inspired ● Enjoyed food\, drinks\, music\, silent & live auctions ● Browsed a Maker Fair with WE-supported\, local women entrepreneurs \nAll event proceeds benefited our grants distributed to our partner programs in San Diego and internationally. \n			\n				View Gallery
URL:https://womenempowerment.org/event/empowered-we-rise-2022/
LOCATION:Coastal Roots Farm\, 441 Saxony Rd.\, Encinitas\, CA\, 92024
CATEGORIES:Fall Fundraiser
ATTACH;FMTTYPE=image/webp:https://womenempowerment.org/wp-content/uploads/2022/06/EWR-Confetti-Background-480x480-1.webp
END:VEVENT
END:VCALENDAR